BEGIN:VCALENDAR
VERSION:2.0
PRODID:-//Arthur Center Community Health - ECPv6.15.20//NONSGML v1.0//EN
CALSCALE:GREGORIAN
METHOD:PUBLISH
X-ORIGINAL-URL:https://arthurcenter.com
X-WR-CALDESC:Events for Arthur Center Community Health
REFRESH-INTERVAL;VALUE=DURATION:PT1H
X-Robots-Tag:noindex
X-PUBLISHED-TTL:PT1H
BEGIN:VTIMEZONE
TZID:America/Chicago
BEGIN:DAYLIGHT
TZOFFSETFROM:-0600
TZOFFSETTO:-0500
TZNAME:CDT
DTSTART:20150308T080000
END:DAYLIGHT
BEGIN:STANDARD
TZOFFSETFROM:-0500
TZOFFSETTO:-0600
TZNAME:CST
DTSTART:20151101T070000
END:STANDARD
BEGIN:DAYLIGHT
TZOFFSETFROM:-0600
TZOFFSETTO:-0500
TZNAME:CDT
DTSTART:20160313T080000
END:DAYLIGHT
BEGIN:STANDARD
TZOFFSETFROM:-0500
TZOFFSETTO:-0600
TZNAME:CST
DTSTART:20161106T070000
END:STANDARD
BEGIN:DAYLIGHT
TZOFFSETFROM:-0600
TZOFFSETTO:-0500
TZNAME:CDT
DTSTART:20170312T080000
END:DAYLIGHT
BEGIN:STANDARD
TZOFFSETFROM:-0500
TZOFFSETTO:-0600
TZNAME:CST
DTSTART:20171105T070000
END:STANDARD
END:VTIMEZONE
BEGIN:VEVENT
DTSTART;VALUE=DATE:20160905
DTEND;VALUE=DATE:20160906
DTSTAMP:20260423T041945
CREATED:20151229T210104Z
LAST-MODIFIED:20151229T210104Z
UID:1043-1473033600-1473119999@arthurcenter.com
SUMMARY:[OFFICES CLOSED] Labor Day
DESCRIPTION:Our offices will be closed in observance of the Labor Day Holiday.  \nNOTE: Our crisis line remains open 24 hours a day at 1.800.833.2064.
URL:https://arthurcenter.com/event/offices-closed-labor-day/
LOCATION:MO
END:VEVENT
BEGIN:VEVENT
DTSTART;VALUE=DATE:20160704
DTEND;VALUE=DATE:20160705
DTSTAMP:20260423T041945
CREATED:20151229T205842Z
LAST-MODIFIED:20151229T205842Z
UID:1042-1467590400-1467676799@arthurcenter.com
SUMMARY:[OFFICES CLOSED] Independence Day
DESCRIPTION:Our offices will be closed in observance of the Independence Day Holiday.  \nNOTE: Our crisis line remains open 24 hours a day at 1.800.833.2064.
URL:https://arthurcenter.com/event/offices-closed-independence-day/
LOCATION:MO
END:VEVENT
BEGIN:VEVENT
DTSTART;VALUE=DATE:20160530
DTEND;VALUE=DATE:20160531
DTSTAMP:20260423T041945
CREATED:20151229T205554Z
LAST-MODIFIED:20151229T205659Z
UID:1041-1464566400-1464652799@arthurcenter.com
SUMMARY:[OFFICES CLOSED] Memorial Day
DESCRIPTION:Our offices will be closed in observance of the Memorial Day Holiday.  \nNOTE: Our crisis line remains open 24 hours a day at 1.800.833.2064.
URL:https://arthurcenter.com/event/offices-closed/
LOCATION:MO
END:VEVENT
BEGIN:VEVENT
DTSTART;TZID=America/Chicago:20160505T153000
DTEND;TZID=America/Chicago:20160505T180000
DTSTAMP:20260423T041945
CREATED:20160412T020520Z
LAST-MODIFIED:20160412T030901Z
UID:1138-1462462200-1462471200@arthurcenter.com
SUMMARY:Children’s Mental Health Awareness Day
DESCRIPTION:
URL:https://arthurcenter.com/event/childrens-mental-health-awareness-day/
LOCATION:Teal Lake Park\, Mexico\, MO\, 65265\, United States
ORGANIZER;CN="Angela Bellamy":MAILTO:abellamy@arthurcenter.com
END:VEVENT
BEGIN:VEVENT
DTSTART;TZID=America/Chicago:20160430T100000
DTEND;TZID=America/Chicago:20160430T100000
DTSTAMP:20260423T041945
CREATED:20160412T020926Z
LAST-MODIFIED:20160412T024707Z
UID:1140-1462010400-1462010400@arthurcenter.com
SUMMARY:Annual 5K Walk/Run
DESCRIPTION:
URL:https://arthurcenter.com/event/2016-annual-5k-walkrun/
LOCATION:Lakeview Park\, Lakeview Rd\, Mexico\, MO\, 65265\, United States
ORGANIZER;CN="Angela Bellamy":MAILTO:abellamy@arthurcenter.com
END:VEVENT
BEGIN:VEVENT
DTSTART;VALUE=DATE:20160101
DTEND;VALUE=DATE:20160102
DTSTAMP:20260423T041945
CREATED:20151229T204534Z
LAST-MODIFIED:20151229T205257Z
UID:1039-1451606400-1451692799@arthurcenter.com
SUMMARY:[OFFICES CLOSED] New Year's Day
DESCRIPTION:NOTE: Our crisis line remains open 24 hours a day at 1.800.833.2064.
URL:https://arthurcenter.com/event/offices-closed-new-years-day/
LOCATION:MO
END:VEVENT
END:VCALENDAR