BEGIN:VCALENDAR
VERSION:2.0
PRODID:-//Arthur Center Community Health - ECPv6.15.20//NONSGML v1.0//EN
CALSCALE:GREGORIAN
METHOD:PUBLISH
X-ORIGINAL-URL:https://arthurcenter.com
X-WR-CALDESC:Events for Arthur Center Community Health
REFRESH-INTERVAL;VALUE=DURATION:PT1H
X-Robots-Tag:noindex
X-PUBLISHED-TTL:PT1H
BEGIN:VTIMEZONE
TZID:America/Chicago
BEGIN:DAYLIGHT
TZOFFSETFROM:-0600
TZOFFSETTO:-0500
TZNAME:CDT
DTSTART:20150308T080000
END:DAYLIGHT
BEGIN:STANDARD
TZOFFSETFROM:-0500
TZOFFSETTO:-0600
TZNAME:CST
DTSTART:20151101T070000
END:STANDARD
BEGIN:DAYLIGHT
TZOFFSETFROM:-0600
TZOFFSETTO:-0500
TZNAME:CDT
DTSTART:20160313T080000
END:DAYLIGHT
BEGIN:STANDARD
TZOFFSETFROM:-0500
TZOFFSETTO:-0600
TZNAME:CST
DTSTART:20161106T070000
END:STANDARD
BEGIN:DAYLIGHT
TZOFFSETFROM:-0600
TZOFFSETTO:-0500
TZNAME:CDT
DTSTART:20170312T080000
END:DAYLIGHT
BEGIN:STANDARD
TZOFFSETFROM:-0500
TZOFFSETTO:-0600
TZNAME:CST
DTSTART:20171105T070000
END:STANDARD
BEGIN:DAYLIGHT
TZOFFSETFROM:-0600
TZOFFSETTO:-0500
TZNAME:CDT
DTSTART:20180311T080000
END:DAYLIGHT
BEGIN:STANDARD
TZOFFSETFROM:-0500
TZOFFSETTO:-0600
TZNAME:CST
DTSTART:20181104T070000
END:STANDARD
BEGIN:DAYLIGHT
TZOFFSETFROM:-0600
TZOFFSETTO:-0500
TZNAME:CDT
DTSTART:20190310T080000
END:DAYLIGHT
BEGIN:STANDARD
TZOFFSETFROM:-0500
TZOFFSETTO:-0600
TZNAME:CST
DTSTART:20191103T070000
END:STANDARD
BEGIN:DAYLIGHT
TZOFFSETFROM:-0600
TZOFFSETTO:-0500
TZNAME:CDT
DTSTART:20200308T080000
END:DAYLIGHT
BEGIN:STANDARD
TZOFFSETFROM:-0500
TZOFFSETTO:-0600
TZNAME:CST
DTSTART:20201101T070000
END:STANDARD
BEGIN:DAYLIGHT
TZOFFSETFROM:-0600
TZOFFSETTO:-0500
TZNAME:CDT
DTSTART:20210314T080000
END:DAYLIGHT
BEGIN:STANDARD
TZOFFSETFROM:-0500
TZOFFSETTO:-0600
TZNAME:CST
DTSTART:20211107T070000
END:STANDARD
BEGIN:DAYLIGHT
TZOFFSETFROM:-0600
TZOFFSETTO:-0500
TZNAME:CDT
DTSTART:20220313T080000
END:DAYLIGHT
BEGIN:STANDARD
TZOFFSETFROM:-0500
TZOFFSETTO:-0600
TZNAME:CST
DTSTART:20221106T070000
END:STANDARD
END:VTIMEZONE
BEGIN:VEVENT
DTSTART;TZID=America/Chicago:20210129T120000
DTEND;TZID=America/Chicago:20210129T160000
DTSTAMP:20260423T024542
CREATED:20210117T204740Z
LAST-MODIFIED:20210125T154726Z
UID:2366-1611921600-1611936000@arthurcenter.com
SUMMARY:FREE Drive Thru COVID-19 Testing (Pruebas gratis del COVID-19)
DESCRIPTION:*** NOTICE: Due to weather\, this testing has been rescheduled for Friday\, January 29th. ***\n			\n			\n				\n				\n				\n				\n			\n				\n				\n				\n				\n				\n				\n				\n				\n				\n				\n				\n					\n					\n						FREE Drive Thru COVID-19 Testing\n						Friday\, January 29thPresser Performing Arts Center Parking Lot900 South JeffersonMexico\, MO 6526512:00pm to 4:00pm \n*****MUST PREREGISTER*****Call 573-582-1234 ext 3017 or ext 3031 with Questions \n					\n				\n			\n				Pre-Register Now\n			\n			\n				\n				\n				\n				\n				\n				\n				\n				\n				\n				\n					\n					\n						PRUEBAS GRATIS DEL COVID-19\n						Viernes 29 de Enero\nEn el estacionamiento del teatro Presser Performing Arts Center\n900 South Jefferson\nMexico\, MO 65265\n12:00pm to 4:00pm \n*****SE REQUIERE PRE-REGISTRO*****\nLlame al 573.975.0167 con sus preguntas\n¡¡Hablamos español!!\n					\n				\n			\n				Regístrate ahora
URL:https://arthurcenter.com/event/free-drive-thru-covid-19-testing/
LOCATION:Presser Performing Arts Center\, 900 S Jefferson St.\, Mexico\, MO\, 65265\, United States
END:VEVENT
BEGIN:VEVENT
DTSTART;TZID=America/Chicago:20200605T140000
DTEND;TZID=America/Chicago:20200605T170000
DTSTAMP:20260423T024542
CREATED:20200603T231848Z
LAST-MODIFIED:20200603T232643Z
UID:2233-1591365600-1591376400@arthurcenter.com
SUMMARY:Free Drive Thru COVID-19 Testing - Mexico
DESCRIPTION:Pruebas Gratis Del COVID-19\nNo Doctor’s Order or Appointment Required!
URL:https://arthurcenter.com/event/free-drive-thru-covid-19-testing-mexico-2/
LOCATION:Presser Performing Arts Center\, 900 S Jefferson St.\, Mexico\, MO\, 65265\, United States
END:VEVENT
BEGIN:VEVENT
DTSTART;TZID=America/Chicago:20200604T140000
DTEND;TZID=America/Chicago:20200604T170000
DTSTAMP:20260423T024542
CREATED:20200603T231708Z
LAST-MODIFIED:20200603T232621Z
UID:2229-1591279200-1591290000@arthurcenter.com
SUMMARY:Free Drive Thru COVID-19 Testing - Mexico
DESCRIPTION:Pruebas Gratis Del COVID-19\nNo Doctor’s Order or Appointment Required!
URL:https://arthurcenter.com/event/free-drive-thru-covid-19-testing-mexico/
LOCATION:Presser Performing Arts Center\, 900 S Jefferson St.\, Mexico\, MO\, 65265\, United States
END:VEVENT
BEGIN:VEVENT
DTSTART;TZID=America/Chicago:20200603T150000
DTEND;TZID=America/Chicago:20200603T163000
DTSTAMP:20260423T024542
CREATED:20200603T232114Z
LAST-MODIFIED:20200603T232600Z
UID:2235-1591196400-1591201800@arthurcenter.com
SUMMARY:Free Drive Thru COVID-19 Testing - Martinsburg
DESCRIPTION:Pruebas Gratis Del COVID-19\nNo Doctor’s Order or Appointment Required!
URL:https://arthurcenter.com/event/free-drive-thru-covid-19-testing-martinsburg/
LOCATION:St. Joseph Catholic Church\, 408 East Kellett\, Martinsburg\, MO\, 65264\, United States
END:VEVENT
BEGIN:VEVENT
DTSTART;TZID=America/Chicago:20200603T130000
DTEND;TZID=America/Chicago:20200603T143000
DTSTAMP:20260423T024542
CREATED:20200603T232304Z
LAST-MODIFIED:20200603T232546Z
UID:2238-1591189200-1591194600@arthurcenter.com
SUMMARY:Free Drive Thru COVID-19 Testing - Laddonia
DESCRIPTION:Pruebas Gratis Del COVID-19\nNo Doctor’s Order or Appointment Required!
URL:https://arthurcenter.com/event/free-drive-thru-covid-19-testing-laddonia/
LOCATION:Laddonia Ballpark\, 200 Hwy K\, Laddonia\, MO\, 63352\, United States
END:VEVENT
BEGIN:VEVENT
DTSTART;TZID=America/Chicago:20200602T140000
DTEND;TZID=America/Chicago:20200602T170000
DTSTAMP:20260423T024542
CREATED:20200603T232417Z
LAST-MODIFIED:20200603T232525Z
UID:2241-1591106400-1591117200@arthurcenter.com
SUMMARY:Free Drive Thru COVID-19 Testing - Mexico
DESCRIPTION:Pruebas Gratis Del COVID-19\nNo Doctor’s Order or Appointment Required!
URL:https://arthurcenter.com/event/free-drive-thru-covid-19-testing-mexico-3/
LOCATION:Presser Performing Arts Center\, 900 S Jefferson St.\, Mexico\, MO\, 65265\, United States
END:VEVENT
BEGIN:VEVENT
DTSTART;TZID=America/Chicago:20180510T153000
DTEND;TZID=America/Chicago:20180510T183000
DTSTAMP:20260423T024542
CREATED:20180504T180630Z
LAST-MODIFIED:20180504T180630Z
UID:1800-1525966200-1525977000@arthurcenter.com
SUMMARY:2018 Annual Children’s Mental Health Awareness Picnic
DESCRIPTION:
URL:https://arthurcenter.com/event/2018-annual-childrens-mental-health-awareness-picnic/
LOCATION:Teal Lake Park\, Mexico\, MO\, 65265\, United States
ORGANIZER;CN="Angela Bellamy":MAILTO:abellamy@arthurcenter.com
END:VEVENT
BEGIN:VEVENT
DTSTART;TZID=America/Chicago:20180505T091500
DTEND;TZID=America/Chicago:20180505T120000
DTSTAMP:20260423T024542
CREATED:20180504T180052Z
LAST-MODIFIED:20180504T180410Z
UID:1796-1525511700-1525521600@arthurcenter.com
SUMMARY:2018 Annual Children's Mental Health Awareness 5K Walk/Run
DESCRIPTION:
URL:https://arthurcenter.com/event/2018-annual-childrens-mental-health-awareness-5k-walk-run/
LOCATION:Lakeview Park\, Lakeview Rd\, Mexico\, MO\, 65265\, United States
ORGANIZER;CN="Angela Bellamy":MAILTO:abellamy@arthurcenter.com
END:VEVENT
BEGIN:VEVENT
DTSTART;TZID=America/Chicago:20170504T033000
DTEND;TZID=America/Chicago:20170504T183000
DTSTAMP:20260423T024542
CREATED:20170421T150604Z
LAST-MODIFIED:20170421T150819Z
UID:1354-1493868600-1493922600@arthurcenter.com
SUMMARY:2017 Annual Children's Mental Health Awareness Day
DESCRIPTION:
URL:https://arthurcenter.com/event/2017-annual-childrens-mental-health-awareness-day/
LOCATION:Teal Lake Park\, Mexico\, MO\, 65265\, United States
ORGANIZER;CN="Angela Bellamy":MAILTO:abellamy@arthurcenter.com
END:VEVENT
BEGIN:VEVENT
DTSTART;VALUE=DATE:20161124
DTEND;VALUE=DATE:20161126
DTSTAMP:20260423T024542
CREATED:20151229T210248Z
LAST-MODIFIED:20151229T210248Z
UID:1046-1479945600-1480118399@arthurcenter.com
SUMMARY:[OFFICES CLOSED] Thanksgiving Day
DESCRIPTION:Our offices will be closed in observance of the Thanksgiving Day Holiday.  \nNOTE: Our crisis line remains open 24 hours a day at 1.800.833.2064.
URL:https://arthurcenter.com/event/offices-closed-thanksgiving-day/
LOCATION:MO
END:VEVENT
BEGIN:VEVENT
DTSTART;VALUE=DATE:20160905
DTEND;VALUE=DATE:20160906
DTSTAMP:20260423T024542
CREATED:20151229T210104Z
LAST-MODIFIED:20151229T210104Z
UID:1043-1473033600-1473119999@arthurcenter.com
SUMMARY:[OFFICES CLOSED] Labor Day
DESCRIPTION:Our offices will be closed in observance of the Labor Day Holiday.  \nNOTE: Our crisis line remains open 24 hours a day at 1.800.833.2064.
URL:https://arthurcenter.com/event/offices-closed-labor-day/
LOCATION:MO
END:VEVENT
BEGIN:VEVENT
DTSTART;VALUE=DATE:20160704
DTEND;VALUE=DATE:20160705
DTSTAMP:20260423T024542
CREATED:20151229T205842Z
LAST-MODIFIED:20151229T205842Z
UID:1042-1467590400-1467676799@arthurcenter.com
SUMMARY:[OFFICES CLOSED] Independence Day
DESCRIPTION:Our offices will be closed in observance of the Independence Day Holiday.  \nNOTE: Our crisis line remains open 24 hours a day at 1.800.833.2064.
URL:https://arthurcenter.com/event/offices-closed-independence-day/
LOCATION:MO
END:VEVENT
BEGIN:VEVENT
DTSTART;VALUE=DATE:20160530
DTEND;VALUE=DATE:20160531
DTSTAMP:20260423T024542
CREATED:20151229T205554Z
LAST-MODIFIED:20151229T205659Z
UID:1041-1464566400-1464652799@arthurcenter.com
SUMMARY:[OFFICES CLOSED] Memorial Day
DESCRIPTION:Our offices will be closed in observance of the Memorial Day Holiday.  \nNOTE: Our crisis line remains open 24 hours a day at 1.800.833.2064.
URL:https://arthurcenter.com/event/offices-closed/
LOCATION:MO
END:VEVENT
BEGIN:VEVENT
DTSTART;TZID=America/Chicago:20160505T153000
DTEND;TZID=America/Chicago:20160505T180000
DTSTAMP:20260423T024542
CREATED:20160412T020520Z
LAST-MODIFIED:20160412T030901Z
UID:1138-1462462200-1462471200@arthurcenter.com
SUMMARY:Children’s Mental Health Awareness Day
DESCRIPTION:
URL:https://arthurcenter.com/event/childrens-mental-health-awareness-day/
LOCATION:Teal Lake Park\, Mexico\, MO\, 65265\, United States
ORGANIZER;CN="Angela Bellamy":MAILTO:abellamy@arthurcenter.com
END:VEVENT
BEGIN:VEVENT
DTSTART;TZID=America/Chicago:20160430T100000
DTEND;TZID=America/Chicago:20160430T100000
DTSTAMP:20260423T024542
CREATED:20160412T020926Z
LAST-MODIFIED:20160412T024707Z
UID:1140-1462010400-1462010400@arthurcenter.com
SUMMARY:Annual 5K Walk/Run
DESCRIPTION:
URL:https://arthurcenter.com/event/2016-annual-5k-walkrun/
LOCATION:Lakeview Park\, Lakeview Rd\, Mexico\, MO\, 65265\, United States
ORGANIZER;CN="Angela Bellamy":MAILTO:abellamy@arthurcenter.com
END:VEVENT
BEGIN:VEVENT
DTSTART;VALUE=DATE:20160101
DTEND;VALUE=DATE:20160102
DTSTAMP:20260423T024542
CREATED:20151229T204534Z
LAST-MODIFIED:20151229T205257Z
UID:1039-1451606400-1451692799@arthurcenter.com
SUMMARY:[OFFICES CLOSED] New Year's Day
DESCRIPTION:NOTE: Our crisis line remains open 24 hours a day at 1.800.833.2064.
URL:https://arthurcenter.com/event/offices-closed-new-years-day/
LOCATION:MO
END:VEVENT
END:VCALENDAR